BEGIN:VCALENDAR
VERSION:2.0
PRODID:-//Petawawa Horticultural Society - ECPv6.10.1//NONSGML v1.0//EN
CALSCALE:GREGORIAN
METHOD:PUBLISH
X-ORIGINAL-URL:https://staging.petawawahorticultural.ca
X-WR-CALDESC:Events for Petawawa Horticultural Society
REFRESH-INTERVAL;VALUE=DURATION:PT1H
X-Robots-Tag:noindex
X-PUBLISHED-TTL:PT1H
BEGIN:VTIMEZONE
TZID:America/Halifax
BEGIN:DAYLIGHT
TZOFFSETFROM:-0400
TZOFFSETTO:-0300
TZNAME:ADT
DTSTART:20230312T060000
END:DAYLIGHT
BEGIN:STANDARD
TZOFFSETFROM:-0300
TZOFFSETTO:-0400
TZNAME:AST
DTSTART:20231105T050000
END:STANDARD
END:VTIMEZONE
BEGIN:VEVENT
DTSTART;TZID=America/Halifax:20231209T190000
DTEND;TZID=America/Halifax:20231209T210000
DTSTAMP:20260422T180516
CREATED:20230828T175026Z
LAST-MODIFIED:20230905T150051Z
UID:950-1702148400-1702155600@staging.petawawahorticultural.ca
SUMMARY:Holiday Season Dinner
DESCRIPTION:MEMBERS ONLY EVENT\n\n\n\nBecause December is a busy month for Petawawa and people are often travelling\, we do not have a monthly meeting however\, keep an eye on the site for a date and time for the annual Holiday Season dinner. \n\n\n\n\n\n\n\n\n\nIf you would like to participate but are not yet a member of the Petawawa Horticultural Society\, you can join below.\n\n\n\n\n\n\n\nJOIN US
URL:https://staging.petawawahorticultural.ca/event/december-monthly-meeting/
LOCATION:Petawawa Public Library\, 16 Civic Centre Rd\, Petawawa\, Ontario\, K8H 3H5\, Canada
CATEGORIES:Activities
ATTACH;FMTTYPE=image/jpeg:https://staging.petawawahorticultural.ca/wp-content/uploads/2023/08/Poinsettia.jpg
END:VEVENT
END:VCALENDAR