BEGIN:VCALENDAR
VERSION:2.0
PRODID:-//Petawawa Horticultural Society - ECPv6.10.1//NONSGML v1.0//EN
CALSCALE:GREGORIAN
METHOD:PUBLISH
X-WR-CALNAME:Petawawa Horticultural Society
X-ORIGINAL-URL:https://staging.petawawahorticultural.ca
X-WR-CALDESC:Events for Petawawa Horticultural Society
REFRESH-INTERVAL;VALUE=DURATION:PT1H
X-Robots-Tag:noindex
X-PUBLISHED-TTL:PT1H
BEGIN:VTIMEZONE
TZID:America/Halifax
BEGIN:DAYLIGHT
TZOFFSETFROM:-0400
TZOFFSETTO:-0300
TZNAME:ADT
DTSTART:20230312T060000
END:DAYLIGHT
BEGIN:STANDARD
TZOFFSETFROM:-0300
TZOFFSETTO:-0400
TZNAME:AST
DTSTART:20231105T050000
END:STANDARD
END:VTIMEZONE
BEGIN:VEVENT
DTSTART;TZID=America/Halifax:20230422T000000
DTEND;TZID=America/Halifax:20230422T000000
DTSTAMP:20260425T104821
CREATED:20230828T175040Z
LAST-MODIFIED:20230830T134007Z
UID:956-1682121600-1682121600@staging.petawawahorticultural.ca
SUMMARY:Earth Day Celebration
DESCRIPTION:Join us for a celebration of nature’s beautiful diversity & spread an environmental message on Earth Day.
URL:https://staging.petawawahorticultural.ca/event/earth-day-celebration/
LOCATION:Ontario
CATEGORIES:Activities
ATTACH;FMTTYPE=image/jpeg:https://staging.petawawahorticultural.ca/wp-content/uploads/2022/07/DSC_5613-2021-05-20-13.22.38_2.jpg
END:VEVENT
END:VCALENDAR