BEGIN:VCALENDAR
VERSION:2.0
PRODID:-//Petawawa Horticultural Society - ECPv6.10.1//NONSGML v1.0//EN
CALSCALE:GREGORIAN
METHOD:PUBLISH
X-WR-CALNAME:Petawawa Horticultural Society
X-ORIGINAL-URL:https://staging.petawawahorticultural.ca
X-WR-CALDESC:Events for Petawawa Horticultural Society
REFRESH-INTERVAL;VALUE=DURATION:PT1H
X-Robots-Tag:noindex
X-PUBLISHED-TTL:PT1H
BEGIN:VTIMEZONE
TZID:America/Halifax
BEGIN:DAYLIGHT
TZOFFSETFROM:-0400
TZOFFSETTO:-0300
TZNAME:ADT
DTSTART:20220313T060000
END:DAYLIGHT
BEGIN:STANDARD
TZOFFSETFROM:-0300
TZOFFSETTO:-0400
TZNAME:AST
DTSTART:20221106T050000
END:STANDARD
END:VTIMEZONE
BEGIN:VEVENT
DTSTART;TZID=America/Halifax:20221217T180000
DTEND;TZID=America/Halifax:20221217T210000
DTSTAMP:20260423T071909
CREATED:20230828T175055Z
LAST-MODIFIED:20230831T030034Z
UID:962-1671300000-1671310800@staging.petawawahorticultural.ca
SUMMARY:Holiday Celebration
DESCRIPTION:MEMBERS ONLY EVENT \n\n\n\nCome join us for the holiday event of the year. Details\, including the exact date and location are pending and will be provided the closer we get to the date. \n\n\n\n\n\n\n\nIf you would like to participate in the Holiday Celebrations but are not yet a member of the Petawawa Horticultural Society\, you can join below. \n\n\n\n\n\n\n\nJOIN US
URL:https://staging.petawawahorticultural.ca/event/holiday-celebration/
LOCATION:Ontario
CATEGORIES:Activities
ATTACH;FMTTYPE=image/jpeg:https://staging.petawawahorticultural.ca/wp-content/uploads/2023/08/Poinsettia.jpg
END:VEVENT
END:VCALENDAR