BEGIN:VCALENDAR
VERSION:2.0
PRODID:-//Petawawa Horticultural Society - ECPv6.10.1//NONSGML v1.0//EN
CALSCALE:GREGORIAN
METHOD:PUBLISH
X-ORIGINAL-URL:https://staging.petawawahorticultural.ca
X-WR-CALDESC:Events for Petawawa Horticultural Society
REFRESH-INTERVAL;VALUE=DURATION:PT1H
X-Robots-Tag:noindex
X-PUBLISHED-TTL:PT1H
BEGIN:VTIMEZONE
TZID:America/Halifax
BEGIN:DAYLIGHT
TZOFFSETFROM:-0400
TZOFFSETTO:-0300
TZNAME:ADT
DTSTART:20240310T060000
END:DAYLIGHT
BEGIN:STANDARD
TZOFFSETFROM:-0300
TZOFFSETTO:-0400
TZNAME:AST
DTSTART:20241103T050000
END:STANDARD
END:VTIMEZONE
BEGIN:VEVENT
DTSTART;TZID=America/Halifax:20240108T190000
DTEND;TZID=America/Halifax:20240108T210000
DTSTAMP:20260422T195401
CREATED:20230828T175027Z
LAST-MODIFIED:20230830T184251Z
UID:951-1704740400-1704747600@staging.petawawahorticultural.ca
SUMMARY:January Monthly Meeting
DESCRIPTION:MEMBERS ONLY EVENT\n\n\n\nThis occurs on the second Monday of each month from September through May. Includes a speaker on various topics\, discussion/question period\, possibly raffles\, door prizes and more. \n\n\n\nSPEAKERTBDTOPICTBDDESCRIPTIONTBD\n\n\n\n\n\n\n\n\n\nIf you would like to participate but are not yet a member of the Petawawa Horticultural Society\, you can join below.\n\n\n\n\n\n\n\nJOIN US
URL:https://staging.petawawahorticultural.ca/event/january-monthly-meeting/
LOCATION:Petawawa Public Library\, 16 Civic Centre Rd\, Petawawa\, Ontario\, K8H 3H5\, Canada
CATEGORIES:Monthly Member Meetings
ATTACH;FMTTYPE=image/jpeg:https://staging.petawawahorticultural.ca/wp-content/uploads/2023/08/Searching-Seed-Catalogues.jpg
END:VEVENT
BEGIN:VEVENT
DTSTART;TZID=America/Halifax:20240212T190000
DTEND;TZID=America/Halifax:20240212T210000
DTSTAMP:20260422T195401
CREATED:20230828T175029Z
LAST-MODIFIED:20230830T184239Z
UID:952-1707764400-1707771600@staging.petawawahorticultural.ca
SUMMARY:February Monthly Meeting
DESCRIPTION:MEMBERS ONLY EVENT\n\n\n\nThis occurs on the second Monday of each month from September through May. Includes a speaker on various topics\, discussion/question period with all members\, possibly raffles\, door prizes and more. \n\n\n\nSPEAKERTBDTOPICTBDDESCRIPTIONTBD\n\n\n\n\n\n\n\n\n\nIf you would like to participate but are not yet a member of the Petawawa Horticultural Society\, you can join below.\n\n\n\n\n\n\n\nJOIN US
URL:https://staging.petawawahorticultural.ca/event/february-monthly-meeting/
LOCATION:Petawawa Public Library\, 16 Civic Centre Rd\, Petawawa\, Ontario\, K8H 3H5\, Canada
CATEGORIES:Monthly Member Meetings
ATTACH;FMTTYPE=image/jpeg:https://staging.petawawahorticultural.ca/wp-content/uploads/2023/08/seed-planting.jpg
END:VEVENT
BEGIN:VEVENT
DTSTART;TZID=America/Halifax:20240311T190000
DTEND;TZID=America/Halifax:20240311T210000
DTSTAMP:20260422T195401
CREATED:20230828T175030Z
LAST-MODIFIED:20230830T184157Z
UID:953-1710183600-1710190800@staging.petawawahorticultural.ca
SUMMARY:March Monthly Meeting
DESCRIPTION:MEMBERS ONLY EVENT\n\n\n\nThis occurs on the second Monday of each month from September through May. Includes a speaker on various topics\, discussion/question period\, possibly raffles\, door prizes and more. \n\n\n\nSPEAKERTBDTOPICTBDDESCRIPTIONTBD\n\n\n\n\n\n\n\n\n\nIf you would like to participate but are not yet a member of the Petawawa Horticultural Society\, you can join below.\n\n\n\n\n\n\n\nJOIN US
URL:https://staging.petawawahorticultural.ca/event/march-monthly-meeting/
LOCATION:Petawawa Public Library\, 16 Civic Centre Rd\, Petawawa\, Ontario\, K8H 3H5\, Canada
CATEGORIES:Monthly Member Meetings
ATTACH;FMTTYPE=image/jpeg:https://staging.petawawahorticultural.ca/wp-content/uploads/2023/08/Crocus-in-Snow.jpg
END:VEVENT
BEGIN:VEVENT
DTSTART;TZID=America/Halifax:20240408T190000
DTEND;TZID=America/Halifax:20240408T210000
DTSTAMP:20260422T195401
CREATED:20230828T175039Z
LAST-MODIFIED:20230830T140238Z
UID:954-1712602800-1712610000@staging.petawawahorticultural.ca
SUMMARY:April Monthly Meeting
DESCRIPTION:MEMBERS ONLY EVENT\n\n\n\nThis occurs on the second Monday of each month from September through May. Includes a speaker on various topics\, discussion/question period\, possibly raffles\, door prizes and more. \n\n\n\n\n\n\n\n\n\nIf you would like to participate but are not yet a member of the Petawawa Horticultural Society\, you can join below.\n\n\n\n\n\n\n\nJOIN US
URL:https://staging.petawawahorticultural.ca/event/april-monthly-meeting/
LOCATION:Petawawa Public Library\, 16 Civic Centre Rd\, Petawawa\, Ontario\, K8H 3H5\, Canada
CATEGORIES:Monthly Member Meetings
ATTACH;FMTTYPE=image/jpeg:https://staging.petawawahorticultural.ca/wp-content/uploads/2022/07/DSC_7647-2020-05-19-11.44.37_2.jpg
END:VEVENT
BEGIN:VEVENT
DTSTART;TZID=America/Halifax:20240513T190000
DTEND;TZID=America/Halifax:20240513T210000
DTSTAMP:20260422T195401
CREATED:20230828T175040Z
LAST-MODIFIED:20230830T161220Z
UID:955-1715626800-1715634000@staging.petawawahorticultural.ca
SUMMARY:May Monthly Meeting
DESCRIPTION:MEMBERS ONLY EVENT\n\n\n\nThis occurs on the second Monday of each month from September through May. Includes a speaker on various topics\, discussion/question period\, possibly raffles\, door prizes and more. \n\n\n\nSPEAKERTBDTOPICTBDDESCRIPTIONTBD\n\n\n\n\n\n\n\n\n\nIf you would like to participate but are not yet a member of the Petawawa Horticultural Society\, you can join below.\n\n\n\n\n\n\n\nJOIN US
URL:https://staging.petawawahorticultural.ca/event/may-monthly-meeting/
LOCATION:Petawawa Public Library\, 16 Civic Centre Rd\, Petawawa\, Ontario\, K8H 3H5\, Canada
CATEGORIES:Monthly Member Meetings
ATTACH;FMTTYPE=image/jpeg:https://staging.petawawahorticultural.ca/wp-content/uploads/2023/08/20220622_Lady-Slipper-3-scaled.jpg
END:VEVENT
BEGIN:VEVENT
DTSTART;TZID=America/Halifax:20240531T000000
DTEND;TZID=America/Halifax:20240531T000000
DTSTAMP:20260422T195401
CREATED:20230828T175054Z
LAST-MODIFIED:20230828T190831Z
UID:960-1717113600-1717113600@staging.petawawahorticultural.ca
SUMMARY:Trillium Award Nomination Deadline
DESCRIPTION:Have you seen any beautiful yards that should be award winning yards? Please nominate friends and neighbors you think may be deserving of recognition. Deadline for trillium awards nominations for 2023 is July 31st. Visit the Trillium Awards Program page for details. \n\n\n\nWhat are the Trillium Awards?\n\n\n\nThe Trillium Awards program promotes community pride by recognizing residents who\, by landscaping and maintaining their property\, contribute to a more attractive neighbourhood and community. Properties in the Town of Petawawa are reviewed and considered for the Trillium Awards. \n\n\n\nPlease note that nominations are now closed until May 31st\, 2024.
URL:https://staging.petawawahorticultural.ca/event/trillium-award-nomination-deadline/
LOCATION:Ontario
CATEGORIES:Activities
ATTACH;FMTTYPE=image/jpeg:https://staging.petawawahorticultural.ca/wp-content/uploads/2023/08/20220517_Trillium-scaled-e1692709575499.jpg
END:VEVENT
END:VCALENDAR