BEGIN:VCALENDAR
VERSION:2.0
PRODID:-//Petawawa Horticultural Society - ECPv6.10.1//NONSGML v1.0//EN
CALSCALE:GREGORIAN
METHOD:PUBLISH
X-WR-CALNAME:Petawawa Horticultural Society
X-ORIGINAL-URL:https://staging.petawawahorticultural.ca
X-WR-CALDESC:Events for Petawawa Horticultural Society
REFRESH-INTERVAL;VALUE=DURATION:PT1H
X-Robots-Tag:noindex
X-PUBLISHED-TTL:PT1H
BEGIN:VTIMEZONE
TZID:America/Halifax
BEGIN:DAYLIGHT
TZOFFSETFROM:-0400
TZOFFSETTO:-0300
TZNAME:ADT
DTSTART:20230312T060000
END:DAYLIGHT
BEGIN:STANDARD
TZOFFSETFROM:-0300
TZOFFSETTO:-0400
TZNAME:AST
DTSTART:20231105T050000
END:STANDARD
END:VTIMEZONE
BEGIN:VEVENT
DTSTART;TZID=America/Halifax:20231106T190000
DTEND;TZID=America/Halifax:20231106T210000
DTSTAMP:20260422T212747
CREATED:20230828T175054Z
LAST-MODIFIED:20230905T151431Z
UID:961-1699297200-1699304400@staging.petawawahorticultural.ca
SUMMARY:Annual General Meeting (AGM)
DESCRIPTION:MEMBERS ONLY EVENT\n\n\n\nDetails Pending but will include at least\, a review of the past year’s activities\, financials\, memberships and discussions.  \n\n\n\n\n\n\n\n\n\nIf you would like to participate but are not yet a member of the Petawawa Horticultural Society\, you can join below.\n\n\n\n\n\n\n\nJOIN US
URL:https://staging.petawawahorticultural.ca/event/annual-general-meeting-agm/
LOCATION:Petawawa Civic Center\, 16 Civic Centre Rd\, Petawawa\, Ontario\, K8H 3H5\, Canada
CATEGORIES:Activities
END:VEVENT
END:VCALENDAR