BEGIN:VCALENDAR
VERSION:2.0
PRODID:-//Petawawa Horticultural Society - ECPv6.10.1//NONSGML v1.0//EN
CALSCALE:GREGORIAN
METHOD:PUBLISH
X-WR-CALNAME:Petawawa Horticultural Society
X-ORIGINAL-URL:https://staging.petawawahorticultural.ca
X-WR-CALDESC:Events for Petawawa Horticultural Society
REFRESH-INTERVAL;VALUE=DURATION:PT1H
X-Robots-Tag:noindex
X-PUBLISHED-TTL:PT1H
BEGIN:VTIMEZONE
TZID:America/Halifax
BEGIN:DAYLIGHT
TZOFFSETFROM:-0400
TZOFFSETTO:-0300
TZNAME:ADT
DTSTART:20230312T060000
END:DAYLIGHT
BEGIN:STANDARD
TZOFFSETFROM:-0300
TZOFFSETTO:-0400
TZNAME:AST
DTSTART:20231105T050000
END:STANDARD
END:VTIMEZONE
BEGIN:VEVENT
DTSTART;TZID=America/Halifax:20231002T190000
DTEND;TZID=America/Halifax:20231002T203000
DTSTAMP:20260424T212116
CREATED:20230828T160603Z
LAST-MODIFIED:20230831T013417Z
UID:938-1696273200-1696278600@staging.petawawahorticultural.ca
SUMMARY:October Monthly Meeting
DESCRIPTION:MEMBERS ONLY EVENT\n\n\n\nThis occurs on the second Monday of each month from September through May. Includes a speaker on various topics\, discussion/question period\, possibly raffles\, door prizes and more. \n\n\n\nPLEASE NOTE:         The meeting is scheduled one week earlier due to the Thanksgiving long weekend on this month’s 2nd Tuesday. \n\n\n\nSPEAKERTBDTOPICTBDDESCRIPTIONTBD\n\n\n\n\n\n\n\n\n\nIf you would like to participate but are not yet a member of the Petawawa Horticultural Society\, you can join below.\n\n\n\n\n\n\n\nJOIN US
URL:https://staging.petawawahorticultural.ca/event/member-monthly-meeting/
LOCATION:Petawawa Public Library\, 16 Civic Centre Rd\, Petawawa\, Ontario\, K8H 3H5\, Canada
CATEGORIES:Monthly Member Meetings
ATTACH;FMTTYPE=image/jpeg:https://staging.petawawahorticultural.ca/wp-content/uploads/2023/08/2020-09-26-08.07.11-scaled.jpg
END:VEVENT
END:VCALENDAR