BEGIN:VCALENDAR
VERSION:2.0
PRODID:-//Petawawa Horticultural Society - ECPv6.10.1//NONSGML v1.0//EN
CALSCALE:GREGORIAN
METHOD:PUBLISH
X-ORIGINAL-URL:https://staging.petawawahorticultural.ca
X-WR-CALDESC:Events for Petawawa Horticultural Society
REFRESH-INTERVAL;VALUE=DURATION:PT1H
X-Robots-Tag:noindex
X-PUBLISHED-TTL:PT1H
BEGIN:VTIMEZONE
TZID:America/Halifax
BEGIN:DAYLIGHT
TZOFFSETFROM:-0400
TZOFFSETTO:-0300
TZNAME:ADT
DTSTART:20230312T060000
END:DAYLIGHT
BEGIN:STANDARD
TZOFFSETFROM:-0300
TZOFFSETTO:-0400
TZNAME:AST
DTSTART:20231105T050000
END:STANDARD
END:VTIMEZONE
BEGIN:VEVENT
DTSTART;TZID=America/Halifax:20230520T080000
DTEND;TZID=America/Halifax:20230520T080000
DTSTAMP:20260425T104908
CREATED:20230828T175041Z
LAST-MODIFIED:20230828T175041Z
UID:958-1684569600-1684569600@staging.petawawahorticultural.ca
SUMMARY:Spring Plant Sale
DESCRIPTION:Got plants? Want plants? Rain or shine\, come see us for a great selection of plants and friendly\, knowledgeable advice at the Petawawa Horticultural Society spring plant sale. If you have plants you are dividing this spring\, we will happily take donations for the sale. All plant sales are by donation only. Cash or e-transfer to petawawahortpay@gmail.com This is an annually recurring event so\, if you missed out this time\, watch for us next year.
URL:https://staging.petawawahorticultural.ca/event/spring-plant-sale/
LOCATION:Petawawa Container Market\, Volunteer Way / Civic Center Rd\, Petawawa\, Ontario\, Canada
CATEGORIES:Fundraising
END:VEVENT
END:VCALENDAR